BEGIN:VCALENDAR
VERSION:2.0
PRODID:-//Gwinnett Chamber - ECPv6.15.20//NONSGML v1.0//EN
CALSCALE:GREGORIAN
METHOD:PUBLISH
X-ORIGINAL-URL:https://gwinnettchamber.org
X-WR-CALDESC:Events for Gwinnett Chamber
REFRESH-INTERVAL;VALUE=DURATION:PT1H
X-Robots-Tag:noindex
X-PUBLISHED-TTL:PT1H
BEGIN:VTIMEZONE
TZID:UTC
BEGIN:STANDARD
TZOFFSETFROM:+0000
TZOFFSETTO:+0000
TZNAME:UTC
DTSTART:20250101T000000
END:STANDARD
END:VTIMEZONE
BEGIN:VEVENT
DTSTART;VALUE=DATE:20260202
DTEND;VALUE=DATE:20260401
DTSTAMP:20260424T081339
CREATED:20260323T150200Z
LAST-MODIFIED:20260323T150200Z
UID:10000040-1769990400-1775001599@gwinnettchamber.org
SUMMARY:Delta Community Credit Union Personal Loans
DESCRIPTION:Until March 31st\, Delta Community Credit Union is offering Personal Loans at fixed rates as low as 8.75% APR.  For those that may need to consolidate debt\, offset an unexpected emergency\, or utilize towards personal business operations\, this an unsecured installment loan that may be used any way you see fit.  Apply online at DeltaCommunityCU.com/PersonalLoan\, or inquire with a Branch or virtual representative. \nYours in Business Partnerships\, \nJerry A. Freeman \nBusiness Development Officer| Delta Community Credit Union \nM 404-922-5459 \nO 770-240-7137 \nLinkedIn Profile
URL:https://gwinnettchamber.org/community-event/delta-community-credit-union-personal-loans/
LOCATION:GA
END:VEVENT
BEGIN:VEVENT
DTSTART;TZID=UTC:20260328T100000
DTEND;TZID=UTC:20260328T113000
DTSTAMP:20260424T081339
CREATED:20260319T151405Z
LAST-MODIFIED:20260319T151405Z
UID:10000013-1774692000-1774697400@gwinnettchamber.org
SUMMARY:Strength Training Your Finances
DESCRIPTION:Save the date! At 10am on Saturday\, March 28th at Friendship Baptist Church\, join us for the encore of our Strength Training Your Finances presentation. We look forward to helping you and the rest of the congregation improve your finances. Come and reap bountifully. \nRegister today at https://forms.gle/iGvns6n9GmwixfTi9 for more. Open to the public.
URL:https://gwinnettchamber.org/community-event/strength-training-your-finances/
LOCATION:GA
ATTACH;FMTTYPE=image/png:https://gwinnettchamber.org/wp-content/uploads/2026/03/strength-training-finances.png
END:VEVENT
BEGIN:VEVENT
DTSTART;TZID=UTC:20260328T100000
DTEND;TZID=UTC:20260328T140000
DTSTAMP:20260424T081339
CREATED:20260319T151252Z
LAST-MODIFIED:20260319T151252Z
UID:10000012-1774692000-1774706400@gwinnettchamber.org
SUMMARY:1st Annual Kares 4 Kids Charity Car Show
DESCRIPTION:Event Highlights:\n\n$25 entry per car display\nFREE general admission\nFood trucks\, music\, kid friendly activities\nPeople’s Choice Award for Best Car\nExciting raffle prizes ️and 50/50 raffle\n\nAll proceeds benefit Kares 4 Kids\, a 501(c)(3) non-profit dedicated to supporting local children across Georgia — serving over 100\,000 kids each year through impactful programs. \nWhether you’re showcasing your ride or just coming to enjoy the atmosphere\, this is an event you don’t want to miss. \nSponsorship Opportunities Available! \nInterested in becoming a sponsor or want to register your car? Contact: \nSandy Baker: 316-992-7156 | sandy@nextmoveatl.com \nLet’s drive change\, together. \nSee you at the show!!
URL:https://gwinnettchamber.org/community-event/1st-annual-kares-4-kids-charity-car-show/
LOCATION:Gas South Arena Parking Lot A (nearest to Frankie’s & Gwinnett Chamber building)\, 6400 Sugarloaf Pkwy\, Duluth\, GA\, 30097\, United States
END:VEVENT
END:VCALENDAR