BEGIN:VCALENDAR
VERSION:2.0
PRODID:-//Gwinnett Chamber - ECPv6.15.20//NONSGML v1.0//EN
CALSCALE:GREGORIAN
METHOD:PUBLISH
X-WR-CALNAME:Gwinnett Chamber
X-ORIGINAL-URL:https://gwinnettchamber.org
X-WR-CALDESC:Events for Gwinnett Chamber
REFRESH-INTERVAL;VALUE=DURATION:PT1H
X-Robots-Tag:noindex
X-PUBLISHED-TTL:PT1H
BEGIN:VTIMEZONE
TZID:UTC
BEGIN:STANDARD
TZOFFSETFROM:+0000
TZOFFSETTO:+0000
TZNAME:UTC
DTSTART:20250101T000000
END:STANDARD
END:VTIMEZONE
BEGIN:VEVENT
DTSTART;TZID=UTC:20260404T070000
DTEND;TZID=UTC:20260404T110000
DTSTAMP:20260424T054204
CREATED:20260330T163003Z
LAST-MODIFIED:20260330T163003Z
UID:10000045-1775286000-1775300400@gwinnettchamber.org
SUMMARY:Bunny Hop 5K Color Run/Walk
DESCRIPTION:Please join us for our annual “Bunny Hop 5K Color Run/Walk” in Sugar HIll on April 4th! All the funds raised from this event will go to support those diagnosed with cancer in our community!
URL:https://gwinnettchamber.org/community-event/bunny-hop-5k-color-run-walk/
LOCATION:City Hall of Sugar Hill\, 5029 W Broad Street\, Sugar Hill\, GA\, United States
ATTACH;FMTTYPE=image/jpeg:https://gwinnettchamber.org/wp-content/uploads/2026/03/violet-blue-colors-background-copy-space-12-1-2-2-1-1-scaled.jpg
END:VEVENT
BEGIN:VEVENT
DTSTART;TZID=UTC:20260404T080000
DTEND;TZID=UTC:20260404T093000
DTSTAMP:20260424T054204
CREATED:20260324T185931Z
LAST-MODIFIED:20260324T192602Z
UID:10000041-1775289600-1775295000@gwinnettchamber.org
SUMMARY:Business for a Cause
DESCRIPTION:Last month\, more than 30 businesses came together for the inaugural launch of Business for a Cause\, a powerful reminder of what’s possible when business leadership chooses purpose alongside productivity. \nStart your Saturday morning with intention\, create meaningful connections\, and be a part of something bigger than business. \nFeaturing: Spectrum Autism Support Center\nJoin us on Saturday\, April 4th\, from 8:00 AM – 9:30 AM for a morning designed to inspire conversation\, spark collaboration\, and elevate impact. \nAs leaders in the business community\, our reach extends far beyond the open hand of a nonprofit. Through innovation\, operational strategy\, skills\, services\, and technology\, we can amplify their voice\, strengthen their mission\, and expand their impact across Georgia and beyond. Because what many nonprofits lack is not passion – it’s platform. Business for a Cause exists to close that gap. \nGather your family and friends\, then come ready to: \n• Connect with like-minded colleagues in a “come as you are” casual dress environment\n• Discover a nonprofit organization making a real difference\n• Start your day energized – with both inspiration and a great cup of coffee \nThis is more than an event. It’s a movement toward intentional leadership and community impact.
URL:https://gwinnettchamber.org/community-event/business-for-a-cause/
LOCATION:Coffee That Matters by Phoenix Roasters\, 2640 Old Peachtree Road NW\, Duluth\, GA\, 30097\, United States
ATTACH;FMTTYPE=image/png:https://gwinnettchamber.org/wp-content/uploads/2026/03/Business-For-A-Cause_128x12.png
END:VEVENT
BEGIN:VEVENT
DTSTART;TZID=UTC:20260404T090000
DTEND;TZID=UTC:20260404T160000
DTSTAMP:20260424T054204
CREATED:20260319T151542Z
LAST-MODIFIED:20260319T151542Z
UID:10000014-1775293200-1775318400@gwinnettchamber.org
SUMMARY:How to Get a Sexy FICO Score
DESCRIPTION:Join us for an interactive workshop where you’ll learn the secrets to boosting your credit score and achieving that sexy FICO score. Who would ever think of someone’s FICO credit score as sexy? Just ask the couples who can’t buy a car or a house due to ugly FICO credit scores. Don’t let an ugly FICO credit score hold you back from achieving that next financial goal in life. Our expert speaker\, a frequent member of the exclusive 850 FICO credit score club\, will share tips and tricks on managing your finances\, improving your credit history\, and more. Don’t miss out on this opportunity to take control of your financial future! Seats are limited\, so be sure to reserve your spot now. See you there! \nLocation:\nInside Thrive Coworking Suwanee\n500 Buford Hwy. Suwanee GA 30024 \nRegister today at http://education.moneycopilot.com
URL:https://gwinnettchamber.org/community-event/how-to-get-a-sexy-fico-score/
LOCATION:GA
ATTACH;FMTTYPE=image/jpeg:https://gwinnettchamber.org/wp-content/uploads/2026/03/How-to-Get-a-Sexy-FICO-Score-Full_vkNM.jpg
END:VEVENT
END:VCALENDAR