BEGIN:VCALENDAR
VERSION:2.0
PRODID:-//Gwinnett Chamber - ECPv6.15.20//NONSGML v1.0//EN
CALSCALE:GREGORIAN
METHOD:PUBLISH
X-ORIGINAL-URL:https://gwinnettchamber.org
X-WR-CALDESC:Events for Gwinnett Chamber
REFRESH-INTERVAL;VALUE=DURATION:PT1H
X-Robots-Tag:noindex
X-PUBLISHED-TTL:PT1H
BEGIN:VTIMEZONE
TZID:UTC
BEGIN:STANDARD
TZOFFSETFROM:+0000
TZOFFSETTO:+0000
TZNAME:UTC
DTSTART:20250101T000000
END:STANDARD
END:VTIMEZONE
BEGIN:VEVENT
DTSTART;TZID=UTC:20260408T130000
DTEND;TZID=UTC:20260408T150000
DTSTAMP:20260424T081856
CREATED:20260319T151643Z
LAST-MODIFIED:20260319T151643Z
UID:10000015-1775653200-1775660400@gwinnettchamber.org
SUMMARY:Employee Development Seminar
DESCRIPTION:Strategies For Employee Professional Development  \nOur speaker\, Rebecca Brizi will discuss: \nKey ways that building trust increases employee engagement and retention. \nStrategies to balance individual initiative with organizational reliability. \nNo cost to attend \nRegistration: Strategies For Employee Professional Development | Burnette Insurance \nProfessional growth pathways that align personal purpose with company goals. \nGoals and job descriptions that maximize unique strengths. \nCreating a workplace that encourages curiosity\, initiative\, and ownership in professional growth.
URL:https://gwinnettchamber.org/community-event/employee-development-seminar/
LOCATION:GA
ATTACH;FMTTYPE=image/jpeg:https://gwinnettchamber.org/wp-content/uploads/2026/03/Employee-Development-April-8-2026_Xbr6.jpg
END:VEVENT
BEGIN:VEVENT
DTSTART;TZID=UTC:20260408T183000
DTEND;TZID=UTC:20260408T193000
DTSTAMP:20260424T081856
CREATED:20260319T151918Z
LAST-MODIFIED:20260319T151918Z
UID:10000016-1775673000-1775676600@gwinnettchamber.org
SUMMARY:Sexy FICO User Group Meeting - April 2026
DESCRIPTION:Hosted by Moneycopilot\, LLC\, this event is where those who love the benefits of sexy FICO scores come together to chat\, learn\, and network. If you’re passionate about improving credit scores and financial health\, this is the place to be! Who would ever think of someone’s FICO credit score as sexy? Just ask the couples who can’t buy a car or a house due to ugly FICO credit scores. Don’t let an ugly FICO credit score hold you back from that next financial climax that you crave. Whether you’re a FICO newbie or a seasoned pro\, everyone is welcome. Come join us for a fun and informative gathering with like-minded individuals. See you there! \nLocation:\nInside Thrive Coworking Suwanee\n500 Buford Hwy. Suwanee GA 30024 \nRegister today at http://usergroup.sexyfico.com
URL:https://gwinnettchamber.org/community-event/sexy-fico-user-group-meeting-april-2026/
LOCATION:GA
ATTACH;FMTTYPE=image/jpeg:https://gwinnettchamber.org/wp-content/uploads/2026/03/Sexy-FICO-User-Group-Full_c6gN.jpg
END:VEVENT
END:VCALENDAR