BEGIN:VCALENDAR
VERSION:2.0
PRODID:-//Gwinnett Chamber - ECPv6.15.20//NONSGML v1.0//EN
CALSCALE:GREGORIAN
METHOD:PUBLISH
X-ORIGINAL-URL:https://gwinnettchamber.org
X-WR-CALDESC:Events for Gwinnett Chamber
REFRESH-INTERVAL;VALUE=DURATION:PT1H
X-Robots-Tag:noindex
X-PUBLISHED-TTL:PT1H
BEGIN:VTIMEZONE
TZID:UTC
BEGIN:STANDARD
TZOFFSETFROM:+0000
TZOFFSETTO:+0000
TZNAME:UTC
DTSTART:20250101T000000
END:STANDARD
END:VTIMEZONE
BEGIN:VEVENT
DTSTART;TZID=UTC:20260414T080000
DTEND;TZID=UTC:20260531T235900
DTSTAMP:20260424T081246
CREATED:20260414T152746Z
LAST-MODIFIED:20260414T152746Z
UID:10000056-1776153600-1780271940@gwinnettchamber.org
SUMMARY:Delta Community Credit Union - 3.69%\, Reduced Auto Loan Rates
DESCRIPTION:Fellow Chamber Associates\, \nIt’s officially Spring ’26\, and this is the time of year that we provide our lowest Car and Vehicle Loan rates currently available. \n• April 1st through Saturday\, May 31\, 2026\, Delta Community Credit Union is offering members Rates as low as 3.69% APR for all New and Used Car Loans and Recreational Vehicle Loans. Learn more or Apply at DeltaCommunityCU.com/CarLoan. \nYours In Business Partnerships\, \nJerry A. Freeman\nSr. Business Development Officer| Delta Community Credit Union\njerry.freeman@deltacommunitycu.com\nM 404-922-5459\nLinkedIn Profile
URL:https://gwinnettchamber.org/community-event/delta-community-credit-union-3-69-reduced-auto-loan-rates/
LOCATION:GA
END:VEVENT
BEGIN:VEVENT
DTSTART;VALUE=DATE:20260429
DTEND;VALUE=DATE:20260430
DTSTAMP:20260424T081246
CREATED:20260408T120851Z
LAST-MODIFIED:20260408T120851Z
UID:10000052-1777420800-1777507199@gwinnettchamber.org
SUMMARY:Loyalty Connect US
DESCRIPTION:The World’s Premier Loyalty-Only Conference… Now in the US\nThe World’s Only Cross-Industry\, Loyalty-Exclusive Conference\nJoin 1\,000+ Senior Loyalty Leaders in Atlanta\nLoyalty Connect US – Atlanta Congress Center\n29 April 2026\nIndustry Global Hub For All Things Loyalty\nA Catalyst For Connection – Ignite Profitable Partnerships
URL:https://gwinnettchamber.org/community-event/loyalty-connect-us/
LOCATION:Georgia World Congress Center\, 85 Andrew Young International Blvd NW\, Atlanta\, GA\, 30313\, United States
ATTACH;FMTTYPE=image/jpeg:https://gwinnettchamber.org/wp-content/uploads/2026/04/Loyalty-Connect-US-Atlanta.jpeg
ORGANIZER;CN="Loyalty Connect Global":MAILTO:Jane@loyaltyconnectglobal.com
END:VEVENT
BEGIN:VEVENT
DTSTART;TZID=UTC:20260429T190000
DTEND;TZID=UTC:20260429T200000
DTSTAMP:20260424T081246
CREATED:20260403T120543Z
LAST-MODIFIED:20260403T120543Z
UID:10000049-1777489200-1777492800@gwinnettchamber.org
SUMMARY:Literacy Lights: Strategies to Inspire Every K-12 Reader
DESCRIPTION:Ignite classroom curiosity and boost student success with “Literacy Lights: Strategies to Inspire Every K–12 Reader” – a practical session for Georgia teachers\, paraprofessionals\, district staff\, and community stakeholders. Walk away with classroom-ready strategies\, pathways for professional growth\, and opportunities to strengthen literacy outcomes across your district. Register today at: https://register.gotowebinar.com/register/7079941642780378454
URL:https://gwinnettchamber.org/community-event/literacy-lights-strategies-to-inspire-every-k-12-reader/
LOCATION:GA
END:VEVENT
BEGIN:VEVENT
DTSTART;TZID=UTC:20260429T190000
DTEND;TZID=UTC:20260429T200000
DTSTAMP:20260424T081246
CREATED:20260403T120544Z
LAST-MODIFIED:20260403T120544Z
UID:10000050-1777489200-1777492800@gwinnettchamber.org
SUMMARY:Literacy Lights: Strategies to Inspire Every K-12 Reader
DESCRIPTION:Ignite classroom curiosity and boost student success with “Literacy Lights: Strategies to Inspire Every K–12 Reader” – a practical session for Georgia teachers\, paraprofessionals\, district staff\, and community stakeholders. Walk away with classroom-ready strategies\, pathways for professional growth\, and opportunities to strengthen literacy outcomes across your district. Register today at: https://register.gotowebinar.com/register/7079941642780378454
URL:https://gwinnettchamber.org/community-event/literacy-lights-strategies-to-inspire-every-k-12-reader-2/
LOCATION:GA
ORGANIZER;CN="Walden University":MAILTO:charity.adams@mail.waldenu.edu
END:VEVENT
END:VCALENDAR