BEGIN:VCALENDAR
VERSION:2.0
PRODID:-//Gwinnett Chamber - ECPv6.15.20//NONSGML v1.0//EN
CALSCALE:GREGORIAN
METHOD:PUBLISH
X-ORIGINAL-URL:https://gwinnettchamber.org
X-WR-CALDESC:Events for Gwinnett Chamber
REFRESH-INTERVAL;VALUE=DURATION:PT1H
X-Robots-Tag:noindex
X-PUBLISHED-TTL:PT1H
BEGIN:VTIMEZONE
TZID:UTC
BEGIN:STANDARD
TZOFFSETFROM:+0000
TZOFFSETTO:+0000
TZNAME:UTC
DTSTART:20250101T000000
END:STANDARD
END:VTIMEZONE
BEGIN:VEVENT
DTSTART;TZID=UTC:20260414T080000
DTEND;TZID=UTC:20260531T235900
DTSTAMP:20260424T093711
CREATED:20260414T152746Z
LAST-MODIFIED:20260414T152746Z
UID:10000056-1776153600-1780271940@gwinnettchamber.org
SUMMARY:Delta Community Credit Union - 3.69%\, Reduced Auto Loan Rates
DESCRIPTION:Fellow Chamber Associates\, \nIt’s officially Spring ’26\, and this is the time of year that we provide our lowest Car and Vehicle Loan rates currently available. \n• April 1st through Saturday\, May 31\, 2026\, Delta Community Credit Union is offering members Rates as low as 3.69% APR for all New and Used Car Loans and Recreational Vehicle Loans. Learn more or Apply at DeltaCommunityCU.com/CarLoan. \nYours In Business Partnerships\, \nJerry A. Freeman\nSr. Business Development Officer| Delta Community Credit Union\njerry.freeman@deltacommunitycu.com\nM 404-922-5459\nLinkedIn Profile
URL:https://gwinnettchamber.org/community-event/delta-community-credit-union-3-69-reduced-auto-loan-rates/
LOCATION:GA
END:VEVENT
BEGIN:VEVENT
DTSTART;TZID=UTC:20260510T080000
DTEND;TZID=UTC:20260510T170000
DTSTAMP:20260424T093711
CREATED:20260410T135009Z
LAST-MODIFIED:20260410T135009Z
UID:10000053-1778400000-1778432400@gwinnettchamber.org
SUMMARY:Mother's Day Brunch 5.10.26
DESCRIPTION:We are rolling out the red carpet for ‘Mom’ this Mother’s Day …\na perfect opportunity to gather with family\, enjoy wonderful cuisine\, experience the charm of Carl House\, and celebrate ‘Mom’! \nReservations Times Available\n11:30 AM\n12:00 PM\n12:30 PM\n1:00 PM\n1:30 PM\n2:00 PM \nPricing\nAdults $46 Ages 13 and up\nChildren $25 Ages 6 to 12\nChildren 5 and under no charge\nPlus tax \nMenu\nFresh Fruits\nFresh Baked Biscuits & Gravy\nApplewood Smoked Bacon\nScrambled Eggs\nFrench Toast Casserole\nBreakfast Strada\nWaffles\nShrimp and Grits\nBaked Ham\nHome Fries\nPasta Salad\nMixed Vegetables\nAssorted Desserts\nSweet & Unsweet Tea\, Coffee\, Water and Juices\nMimosa & Champagne available for purchase at the bar \nMenu enhancements may occur. \n*Large Parties will be seated on the Mezzanine* \n*Please notify us by email info@carlhouse.com or phone 770.586.0095 if you have any mobility-limiting restrictions for your table placement or any special dietary needs.* \n*High Chairs are limited in availability*
URL:https://gwinnettchamber.org/community-event/mothers-day-brunch-5-10-26/2026-05-10/1/
LOCATION:Carl House\, 1176 Atlanta Hwy\, Auburn\, GA\, 30011\, United States
ATTACH;FMTTYPE=image/jpeg:https://gwinnettchamber.org/wp-content/uploads/2026/04/Copy-of-Mothers-Day-Brunch-Flyer.jpg
ORGANIZER;CN="Carl House":MAILTO:info@carlhouse.com
END:VEVENT
BEGIN:VEVENT
DTSTART;TZID=UTC:20260510T113000
DTEND;TZID=UTC:20260510T150000
DTSTAMP:20260424T093711
CREATED:20260410T135009Z
LAST-MODIFIED:20260410T135009Z
UID:10000054-1778412600-1778425200@gwinnettchamber.org
SUMMARY:Mother's Day Brunch 5.10.26
DESCRIPTION:We are rolling out the red carpet for ‘Mom’ this Mother’s Day …\na perfect opportunity to gather with family\, enjoy wonderful cuisine\, experience the charm of Carl House\, and celebrate ‘Mom’! \nReservations Times Available\n11:30 AM\n12:00 PM\n12:30 PM\n1:00 PM\n1:30 PM\n2:00 PM \nPricing\nAdults $46 Ages 13 and up\nChildren $25 Ages 6 to 12\nChildren 5 and under no charge\nPlus tax \nMenu\nFresh Fruits\nFresh Baked Biscuits & Gravy\nApplewood Smoked Bacon\nScrambled Eggs\nFrench Toast Casserole\nBreakfast Strada\nWaffles\nShrimp and Grits\nBaked Ham\nHome Fries\nPasta Salad\nMixed Vegetables\nAssorted Desserts\nSweet & Unsweet Tea\, Coffee\, Water and Juices\nMimosa & Champagne available for purchase at the bar \nMenu enhancements may occur. \n*Large Parties will be seated on the Mezzanine* \n*Please notify us by email info@carlhouse.com or phone 770.586.0095 if you have any mobility-limiting restrictions for your table placement or any special dietary needs.* \n*High Chairs are limited in availability*
URL:https://gwinnettchamber.org/community-event/mothers-day-brunch-5-10-26/2026-05-10/2/
LOCATION:Carl House\, 1176 Atlanta Hwy\, Auburn\, GA\, 30011\, United States
ATTACH;FMTTYPE=image/jpeg:https://gwinnettchamber.org/wp-content/uploads/2026/04/Copy-of-Mothers-Day-Brunch-Flyer.jpg
ORGANIZER;CN="Carl House":MAILTO:info@carlhouse.com
END:VEVENT
END:VCALENDAR