BEGIN:VCALENDAR
VERSION:2.0
PRODID:-//Gwinnett Chamber - ECPv6.15.20//NONSGML v1.0//EN
CALSCALE:GREGORIAN
METHOD:PUBLISH
X-WR-CALNAME:Gwinnett Chamber
X-ORIGINAL-URL:https://gwinnettchamber.org
X-WR-CALDESC:Events for Gwinnett Chamber
REFRESH-INTERVAL;VALUE=DURATION:PT1H
X-Robots-Tag:noindex
X-PUBLISHED-TTL:PT1H
BEGIN:VTIMEZONE
TZID:UTC
BEGIN:STANDARD
TZOFFSETFROM:+0000
TZOFFSETTO:+0000
TZNAME:UTC
DTSTART:20250101T000000
END:STANDARD
END:VTIMEZONE
BEGIN:VEVENT
DTSTART;TZID=UTC:20260605T113000
DTEND;TZID=UTC:20260605T150000
DTSTAMP:20260424T151507
CREATED:20260407T201154Z
LAST-MODIFIED:20260407T201154Z
UID:10000051-1780659000-1780671600@gwinnettchamber.org
SUMMARY:Wellness & Pearls Luncheon
DESCRIPTION:The Center for Black Women’s Wellness is where passion and compassion intersect to connect women to the tools and services that move them toward physical\, mental and economic health. Join us for our 2026 Wellness & Pearls Luncheon! This inspiring panel event brings together leaders across healthcare\, business\, and community to advance the health and well-being of women and families. \nFor more than 37 years\, the Center for Black Women’s Wellness has created a legacy in the Atlanta community. This legacy is one which ensures that women and families will always have access to quality healthcare. We know physical\, mental\, emotional\, and financial health is the foundation for full and productive lives\, where individuals can thrive and not merely survive. Our programs\, incredible staff and volunteers\, and host of partners and service providers address those areas with excellence. We believe in the promise of the individuals we serve\, knowing that as their health and overall wellness improves\, families and communities become stronger. Through holistic programs including healthcare\, maternal health\, prevention\, and wellness education\, we serve more than 3\,000 women each year across Atlanta. \nThis signature event is both a celebration and a call to action. Your support helps expand access to care and resources\, empowering women\, strengthening families\, and building healthier communities. Engage in championing women & families. Engage in community. Engage in Wellness & Pearls. \nCome dressed in your most stylish\, chic luncheon attire!
URL:https://gwinnettchamber.org/community-event/wellness-pearls-luncheon/
LOCATION:National Center for Civil and Human Rights\, 100 Ivan Allen Jr Blvd NW\, Atlanta\, GA\, 30313\, United States
ATTACH;FMTTYPE=image/jpeg:https://gwinnettchamber.org/wp-content/uploads/2026/04/WP-flyer.jpg
ORGANIZER;CN="Center for Black Women's Wellness":MAILTO:development@cbww.org
END:VEVENT
BEGIN:VEVENT
DTSTART;TZID=UTC:20260606T100000
DTEND;TZID=UTC:20260606T110000
DTSTAMP:20260424T151507
CREATED:20260319T153718Z
LAST-MODIFIED:20260319T153718Z
UID:10000029-1780740000-1780743600@gwinnettchamber.org
SUMMARY:Get Your Life Right Financial Literacy Workshop
DESCRIPTION:Come join us for an interactive and informative event where you can learn how to manage your finances like a pro! Our expert speaker will cover topics such as budgeting\, saving\, credit\, and more. Whether you’re just starting out or looking to improve your financial situation\, this event is perfect for you. Don’t miss this opportunity to take control of your money and secure your future. See you there! \nLocation:\nInside Thrive Coworking Suwanee\n500 Buford Hwy. Suwanee GA 30024 \nRegister today at http://education.moneycopilot.com
URL:https://gwinnettchamber.org/community-event/get-your-life-right-financial-literacy-workshop/
LOCATION:GA
ATTACH;FMTTYPE=image/jpeg:https://gwinnettchamber.org/wp-content/uploads/2026/03/Get-Your-Life-Right-Financial-Literacy-Workshop-Full_HCSV.jpg
END:VEVENT
BEGIN:VEVENT
DTSTART;TZID=UTC:20260610T183000
DTEND;TZID=UTC:20260610T193000
DTSTAMP:20260424T151507
CREATED:20260319T153809Z
LAST-MODIFIED:20260319T153809Z
UID:10000030-1781116200-1781119800@gwinnettchamber.org
SUMMARY:Sexy FICO User Group Meeting - June 2026
DESCRIPTION:Hosted by Moneycopilot\, LLC\, this event is where those who love the benefits of sexy FICO scores come together to chat\, learn\, and network. If you’re passionate about improving credit scores and financial health\, this is the place to be! Who would ever think of someone’s FICO credit score as sexy? Just ask the couples who can’t buy a car or a house due to ugly FICO credit scores. Don’t let an ugly FICO credit score hold you back from that next financial climax that you crave. Whether you’re a FICO newbie or a seasoned pro\, everyone is welcome. Come join us for a fun and informative gathering with like-minded individuals. See you there! \nLocation:\nInside Thrive Coworking Suwanee\n500 Buford Hwy. Suwanee GA 30024 \nRegister today at http://usergroup.sexyfico.com
URL:https://gwinnettchamber.org/community-event/sexy-fico-user-group-meeting-june-2026/
LOCATION:GA
ATTACH;FMTTYPE=image/jpeg:https://gwinnettchamber.org/wp-content/uploads/2026/03/Sexy-FICO-User-Group-Full_c6gN.jpg
END:VEVENT
BEGIN:VEVENT
DTSTART;TZID=UTC:20260617T183000
DTEND;TZID=UTC:20260617T193000
DTSTAMP:20260424T151507
CREATED:20260319T153901Z
LAST-MODIFIED:20260319T153901Z
UID:10000031-1781721000-1781724600@gwinnettchamber.org
SUMMARY:N. Georgia QuickBooks User Group Meeting - June 2026
DESCRIPTION:Welcome to the N. Georgia QuickBooks User Group Meeting hosted by Moneycopilot\, LLC! Join us for a fun and informative gathering where QuickBooks enthusiasts come together to share tips\, tricks\, and best practices. Whether you’re a seasoned user or just starting out\, this event is perfect for networking and learning from fellow users. Don’t miss out on this opportunity to enhance your QuickBooks skills and connect with like-minded individuals. Mark your calendars and see you there! \nLocation:\nInside Thrive Coworking Suwanee\n500 Buford Hwy. Suwanee GA 30024 \nRegister today at http://ngqbusergroup.moneycopilot.com
URL:https://gwinnettchamber.org/community-event/n-georgia-quickbooks-user-group-meeting-june-2026/
LOCATION:GA
ATTACH;FMTTYPE=image/jpeg:https://gwinnettchamber.org/wp-content/uploads/2026/03/Sexy-FICO-User-Group-Full_c6gN.jpg
END:VEVENT
BEGIN:VEVENT
DTSTART;TZID=UTC:20260620T100000
DTEND;TZID=UTC:20260620T110000
DTSTAMP:20260424T151507
CREATED:20260319T154000Z
LAST-MODIFIED:20260319T154000Z
UID:10000032-1781949600-1781953200@gwinnettchamber.org
SUMMARY:Cut Taxes and Improve Cash Flow with Payroll
DESCRIPTION:Join us for an informative training where you’ll learn how to reduce taxes by at least 10% and enhance cash flow through effective strategies for small business owners who aren’t already running payroll. Our speaker will share valuable insights and practical tips to help you begin your payroll process. From S-Corp designation to shareholder distribution\, don’t miss this opportunity to gain valuable knowledge that can benefit your bottom line. Bring a wifi-capable laptop for any online lab or workshop activities. Secure your spot today! \nLocation:\nInside Thrive Coworking Suwanee\n500 Buford Hwy. Suwanee GA 30024 \nRegister today at http://education.moneycopilot.com
URL:https://gwinnettchamber.org/community-event/cut-taxes-and-improve-cash-flow-with-payroll/
LOCATION:GA
ATTACH;FMTTYPE=image/jpeg:https://gwinnettchamber.org/wp-content/uploads/2026/03/Cut-Taxes-and-Improve-Cash-Flow-with-Payroll-Full_n4ZZ.jpg
END:VEVENT
BEGIN:VEVENT
DTSTART;TZID=UTC:20260625T173000
DTEND;TZID=UTC:20260625T200000
DTSTAMP:20260424T151507
CREATED:20260319T154100Z
LAST-MODIFIED:20260319T154116Z
UID:10000033-1782408600-1782417600@gwinnettchamber.org
SUMMARY:Peachtree Corners Business Association - Taste of Peachtree Corners - June 25\, 2026
DESCRIPTION:REGISTER HERE \n  \nThursday\, June 25\, 2026\, from 5:30pm to 8:00pm\nHilton Atlanta Northeast – 5993 Peachtree Industrial Blvd\, Peachtree Corners\, GA  30092 \nGrab a fork and join us for our Annual PCBA Taste of Peachtree Corners. Enjoy an evening of delicious bites and drinks as you get to sample foods from local restaurants and businesses. Upon check-in\, you will receive a Passport highlighting participating restaurants and businesses and their offerings. \nCome sample menu items from our local community restaurants\, caterers\, and specialty food providers enjoy an evening of business networking as we celebrate the best that summer has to offer.  \nAttendees must have a ticket.  Taste of Peachtree Corners is an adult-oriented community event. \nDon’t miss this fun opportunity so share the opportunity to try these delicious bites and drinks and celebrate with your friends and colleagues. \nADVANCE REGISTRATION APPRECIATED \n$60 – Event Registration\n(includes tastings and drinks)\n$50 – Member Advance Registration – June 10th\n$55 – Guest Advance Registration – June 10th \nRestaurant & Specialty Food Items Participation Fee \nMain Ballroom – Restaurants\, Caterers\, Specialty Foods and Beverages – Premium location at the event: \n\n$250 for PCBA Members\n$375 for PCBA Non-Members\n\nGateway – Restaurants\, Caterers\, Specialty Foods and Beverages – (Limited Availability): \n\n$150 for PCBA Members\n$275 for PCBA Non-Members\n\nRESTAURANT BENEFITS & GUIDELINES \nSponsorship Levels \nTITLE Sponsor (Limit 3) – $2\,500 (includes 14 tickets) \n\nTitle Sponsor designation on Marketing Collateral\, 3-minute introduction on the microphone.  Sponsor designation on Tabletop Signage\, Sponsor Name recognition from the microphone\, Social Media post with logo\, and logo on Event “Passport”; Hyperlink Logo on Website Event Page + Logo on Digital Sponsor Signage at Event + 14 Tickets to Event\n\nEpicurean Sponsor – (Limit 5)  – $2\,000 – (includes 12 tickets) \n\nEpicurean Sponsor designation on Marketing Collateral\, 2-minute introduction on the microphone.  Sponsor designation on Tabletop Signage\, Sponsor Name recognition from the microphone\, Social Media post with logo\, and logo on Event “Passport”; Hyperlink Logo on Website Event Page + Logo on Digital Sponsor Signage at Event + 12 Tickets to Event\n\nCuisine Sponsor – $1\,500 (includes 10 tickets) \n\nCuisine Sponsor designation on Marketing Collateral\, 2-minute introduction on the microphone.  Sponsor designation on Tabletop Signage\, Sponsor Name recognition from the microphone\, Social Media post with logo\, and logo on Event “Passport”; Hyperlink Logo on Website Event Page + Logo on Digital Sponsor Signage at Event + 10 Tickets to Event\n\nSip N’ Savor Sponsor – $1\,000 – (includes 8 tickets) \n\nSip N’ Savor Sponsor designation on Marketing Collateral\, 1-minute introduction on the microphone.  Sponsor designation on Tabletop Signage\, Sponsor Name recognition from the microphone\, Social Media post with logo\, and logo on Event “Passport”; Hyperlink Logo on Website Event Page + Logo on Digital Sponsor Signage at Event + 8 Tickets to Event\n\nBon Appetit Sponsor – $750 –  (includes 6 tickets) \n\nSponsor designation on Tabletop Signage\, Sponsor Name recognition from the microphone\, Social Media post with logo\, and logo on Event “Passport”; Hyperlink Logo on Website Event Page + Logo on Digital Sponsor Signage at Event + 6 Tickets to Event\n\nPremier Sponsor – $500 –  (includes 4 tickets) \n\nSponsor Name recognition from the microphone\, Social Media post with logo\, Hyperlink Logo on Website Event Page + Logo on Digital Sponsor Signage at Event + 4 Tickets to Event\n\nCommunity Partner – $250 – (includes 2 tickets) \n\nHyperlink Logo on Website Event Page + Logo on Digital Sponsor Signage at Event + 2 Tickets to Event\n\nQUESTIONS?  Email membership@peachtreecornersba.com 
URL:https://gwinnettchamber.org/community-event/peachtree-corners-business-association-taste-of-peachtree-corners-june-25-2026/
LOCATION:GA
ATTACH;FMTTYPE=image/png:https://gwinnettchamber.org/wp-content/uploads/2026/03/Taste-of-Peachtree-Corners-Presented-by-PCBA-Logo_tnk8.png
END:VEVENT
BEGIN:VEVENT
DTSTART;TZID=UTC:20261021T180000
DTEND;TZID=UTC:20261021T213000
DTSTAMP:20260424T151507
CREATED:20260319T154228Z
LAST-MODIFIED:20260407T154424Z
UID:10000034-1792605600-1792618200@gwinnettchamber.org
SUMMARY:2nd Annual AquaRoyale Casino Night Gala
DESCRIPTION:A Night of Fun\, Fortune\, & Philanthropy \nJoin community leaders\, industry partners\, and supporters at Bear’s Best Golf Course for the 2nd Annual AquaRoyale Casino Night Gala\, benefiting The Water Tower Institute (501c3). Attendees will enjoy delicious food\, drinks\, casino-style games\, and networking all in support of water innovation. \nLearn more about the Gala: https://www.theh2otower.org/aquaroyale-casino-night
URL:https://gwinnettchamber.org/community-event/2nd-annual-aquaroyale-casino-night-gala/
LOCATION:The Water Tower\, 2500 Clean Water Court\, Buford\, GA\, 30519\, United States
ATTACH;FMTTYPE=image/jpeg:https://gwinnettchamber.org/wp-content/uploads/2026/03/102225_water_tower_gala-192_YEZ8.jpg
END:VEVENT
BEGIN:VEVENT
DTSTART;TZID=UTC:20261022T080000
DTEND;TZID=UTC:20261022T160000
DTSTAMP:20260424T151507
CREATED:20260319T154337Z
LAST-MODIFIED:20260319T154337Z
UID:10000035-1792656000-1792684800@gwinnettchamber.org
SUMMARY:7th Annual Watering Hole Golf Tournament
DESCRIPTION:Golf for a Great Cause \nJoin community members and water leaders for a memorable experience at the 7th Annual Watering Hole Golf Tournament on Thursday\, October 22 at Bear’s Best Atlanta. We look forward to a fantastic day of friendly competition and meaningful connection with water leaders\, industry partners\, and community supporters. Proceeds from the Annual Watering Hole Golf Tournament support The Water Tower Institute’s (501c3) innovation programming\, such as STEM workshops for high school students to explore future water careers and workforce training for individuals from underserved communities to start a fulfilling career as an operator or lab analyst. \nLearn more about the tournament: https://www.theh2otower.org/annual-golf-tournament
URL:https://gwinnettchamber.org/community-event/7th-annual-watering-hole-golf-tournament/
LOCATION:GA
ATTACH;FMTTYPE=image/jpeg:https://gwinnettchamber.org/wp-content/uploads/2026/03/102325_twt_golf_tournament-171_resized_Sxr6.jpg
END:VEVENT
BEGIN:VEVENT
DTSTART;TZID=UTC:20261031T083000
DTEND;TZID=UTC:20261031T120000
DTSTAMP:20260424T151507
CREATED:20260319T154621Z
LAST-MODIFIED:20260319T154621Z
UID:10000036-1793435400-1793448000@gwinnettchamber.org
SUMMARY:2026 Walk to End Alzheimer's - Gwinnett County/Suwanee\, GA
DESCRIPTION:Held annually in more than 600 communities nationwide\, the Alzheimer’s Association Walk to End Alzheimer’s® is the world’s largest fundraiser for Alzheimer’s care\, support and research. This inspiring event calls on participants of all ages and abilities to join the fight against the disease. \nRegister today at act.alz.org/gwinnett
URL:https://gwinnettchamber.org/community-event/2026-walk-to-end-alzheimers-gwinnett-county-suwanee-ga/
LOCATION:GA
ATTACH;FMTTYPE=image/jpeg:https://gwinnettchamber.org/wp-content/uploads/2026/03/HeaderGraphic2-email_TQb7.jpg
END:VEVENT
END:VCALENDAR