BEGIN:VCALENDAR
VERSION:2.0
PRODID:-//Gwinnett Chamber - ECPv6.15.20//NONSGML v1.0//EN
CALSCALE:GREGORIAN
METHOD:PUBLISH
X-WR-CALNAME:Gwinnett Chamber
X-ORIGINAL-URL:https://gwinnettchamber.org
X-WR-CALDESC:Events for Gwinnett Chamber
REFRESH-INTERVAL;VALUE=DURATION:PT1H
X-Robots-Tag:noindex
X-PUBLISHED-TTL:PT1H
BEGIN:VTIMEZONE
TZID:UTC
BEGIN:STANDARD
TZOFFSETFROM:+0000
TZOFFSETTO:+0000
TZNAME:UTC
DTSTART:20250101T000000
END:STANDARD
END:VTIMEZONE
BEGIN:VEVENT
DTSTART;TZID=UTC:20260326T080000
DTEND;TZID=UTC:20260326T170000
DTSTAMP:20260424T133922
CREATED:20260319T150748Z
LAST-MODIFIED:20260319T150748Z
UID:10000010-1774512000-1774544400@gwinnettchamber.org
SUMMARY:Resilient Gwinnett in Action Summit
DESCRIPTION:Our dynamic\, one-day event brings educators\, mental health professionals\, business and community leaders\, first responders\, and youth-serving professionals together to strengthen mental well-being across families\, workplaces\, and our community. Light breakfast and lunch will be provided. \nReserve your spot today! \nWhat to Expect\n\nNetworking and resource fair\nBreakout sessions for education\, youth-serving organizations\, and the business community\nAfternoon Spotlight Presentation and Panel: Commercial Sexual Exploitation of Children and Human Trafficking:\nCEUs to support your professional development\nClosing wine reception and more!\n\nDon’t miss the opportunity to engage in a meaningful dialogue about mental health\, resilience\, and how we can work together to build a healthier\, more resilient Gwinnett County. \nView the full agenda. \nLimited partial scholarships are available to assist with the cost of registration. Apply here. \nSponsorships available: View our sponsor opportunities or contact us at resilientgwinnett@gwinnettcoalition.org. \nReserve your spot today!
URL:https://gwinnettchamber.org/community-event/resilient-gwinnett-in-action-summit/
LOCATION:GA
ATTACH;FMTTYPE=image/png:https://gwinnettchamber.org/wp-content/uploads/2026/03/Resilient-Summit.png
END:VEVENT
BEGIN:VEVENT
DTSTART;TZID=UTC:20260324T180000
DTEND;TZID=UTC:20260324T180000
DTSTAMP:20260424T133922
CREATED:20260318T165957Z
LAST-MODIFIED:20260318T170021Z
UID:10000009-1774375200-1774375200@gwinnettchamber.org
SUMMARY:Rainbow Village Women’s Giving Circle: Kick Off Event
DESCRIPTION:Where Hope Lands\nA Women’s Giving Circle Gathering\nWhat really happens when families leave Rainbow Village? \nWhere do they go — and who continues walking alongside them? \nJoin us on Tuesday\, March 24th at 6pm for a meaningful and welcoming Women’s Giving Circle gathering at Bridgewater Apartments.  Where you’ll see firsthand how partnerships help families move from transitional housing into stable\, affordable homes. \nThis evening will introduce you to our growing collaboration with Single Parent Alliance & Resource Center (SPARC)\, whose new Community Resource space at Bridgewater serves as a hub for afterschool programs\, financial education\, and ongoing support for families. \nYou’ll tour the space\, learn how families continue building stability after Rainbow Village\, hear directly from our partners\, and discover how your time\, talents\, and generosity help create lasting pathways forward. Most of all\, you’ll experience what’s possible when women come together around shared purpose and strong community partnerships. \nEnjoy light refreshments\, meaningful conversation\, and a behind-the-scenes look at how housing\, support\, and opportunity come together — long after graduation. \nThis event is open to current and prospective Women’s Giving Circle members. We would love for you to join us. \nEvent Registration:\nRegister Here \n\n\n\nWomen’s Giving Circle Members: Complimentary\n(Apply member code when registering)\nGuest Attendance: $30\n\n\n\n\nSparc Community Resource Center at Bridgewater Apartments\n1500 Ridge Brook Trail\nDuluth Ga\,30096
URL:https://gwinnettchamber.org/community-event/rainbow-village-womens-giving-circle-kick-off-event/
LOCATION:GA
ATTACH;FMTTYPE=image/png:https://gwinnettchamber.org/wp-content/uploads/2026/03/RV_SubBrandLogo_Women-VertRGB_opKB.png
END:VEVENT
BEGIN:VEVENT
DTSTART;TZID=UTC:20260323T183000
DTEND;TZID=UTC:20260323T203000
DTSTAMP:20260424T133922
CREATED:20260318T165549Z
LAST-MODIFIED:20260318T165549Z
UID:10000008-1774290600-1774297800@gwinnettchamber.org
SUMMARY:District 4 Commissioner Matthew Holtkamp Town Hall
DESCRIPTION:Join District 4 Commissioner Matthew Holtkamp for a Town Hall meeting on Monday\, March 23 from 6:30pm to 8:30pm at the Water Tower Multipurpose Room at 2500 Clean Water Court in Buford. Hear updates on traffic improvements\, safety\, economic development\, smart growth and development\, partnerships with the cities\, and more.
URL:https://gwinnettchamber.org/community-event/district-4-commissioner-matthew-holtkamp-town-hall/
LOCATION:GA
ATTACH;FMTTYPE=image/jpeg:https://gwinnettchamber.org/wp-content/uploads/2026/03/Matthew-Holtkamp-Jan-2025_Ji9A-scaled.jpg
END:VEVENT
BEGIN:VEVENT
DTSTART;TZID=UTC:20260323T083000
DTEND;TZID=UTC:20260323T163000
DTSTAMP:20260424T133922
CREATED:20260318T165412Z
LAST-MODIFIED:20260318T165427Z
UID:10000007-1774254600-1774283400@gwinnettchamber.org
SUMMARY:Tee Off for Bleeding Disorders
DESCRIPTION:Join Hemophilia of Georgia on Monday\, March 23\, 2026\, for Hemophilia of Georgia’s 43rd Annual Golf Tournament\, Tee Off for Bleeding Disorders\, \nat Indian Hills Country Club in Marietta\, GA. Please help HoG raise crucial funds for research for a cure for bleeding disorders.
URL:https://gwinnettchamber.org/community-event/tee-off-for-bleeding-disorders/
LOCATION:Indian Hills Country Club
ATTACH;FMTTYPE=image/png:https://gwinnettchamber.org/wp-content/uploads/2026/03/c.png
END:VEVENT
BEGIN:VEVENT
DTSTART;TZID=UTC:20260321T180000
DTEND;TZID=UTC:20260321T210000
DTSTAMP:20260424T133922
CREATED:20260318T165023Z
LAST-MODIFIED:20260318T165111Z
UID:10000006-1774116000-1774126800@gwinnettchamber.org
SUMMARY:Because One Matters Birthday Bash Fundraiser
DESCRIPTION:Mark your calendar for March 21\, 2026\, and join us at Slow Pour Brewery for our annual Because One Matters Birthday Bash! It’s an evening of fun\, food\, and fellowship. All while helping us serve\, love and equip kids impacted by foster care. \nEnjoy great dinner and drinks\, connect with incredible people\, and hear inspiring stories about the difference Because One Matters is making in our community.
URL:https://gwinnettchamber.org/community-event/because-one-matters-birthday-bash-fundraiser/
LOCATION:Slow Pour Brewery
ATTACH;FMTTYPE=image/jpeg:https://gwinnettchamber.org/wp-content/uploads/2026/03/because-one-matters-birthday-bash.jpg
END:VEVENT
BEGIN:VEVENT
DTSTART;TZID=UTC:20260321T173000
DTEND;TZID=UTC:20260321T220000
DTSTAMP:20260424T133922
CREATED:20260318T164815Z
LAST-MODIFIED:20260318T164815Z
UID:10000005-1774114200-1774130400@gwinnettchamber.org
SUMMARY:Revved Up Kids Shamrock 'n' Roll Casino for a Cause
DESCRIPTION:Celebrate ~ Connect ~ Protect Our Children \nMaison 6405 (6405 Sugarloaf Pkwy\, Duluth\, GA) 5:30pm \nIt’s our annual Shamrock ‘n’ Roll Casino Night for a Cause\, an engaging St. Patrick’s Day themed evening of purpose\, philanthropy and community impact\, and you’re invited! This year\, we’re hosting the event at the beautiful Maison 6405 in Duluth. Get your green on and join us on Saturday\, March 21. \nYou’re always a winner if you bet on child safety! Proceeds from this event will benefit the Revved Up Kids mission to protect children and teens from sexual abuse\, exploitation and trafficking. \nSponsor ~ Donate ~ Attend \nVisit the Shamrock ‘n’ Roll event website for more information and to purchase tickets.
URL:https://gwinnettchamber.org/community-event/revved-up-kids-shamrock-n-roll-casino-for-a-cause/
LOCATION:GA
ATTACH;FMTTYPE=image/jpeg:https://gwinnettchamber.org/wp-content/uploads/2026/03/ShamrockLogoMain_4x3-01_fdd4-scaled.jpg
END:VEVENT
BEGIN:VEVENT
DTSTART;TZID=UTC:20260321T110000
DTEND;TZID=UTC:20260321T140000
DTSTAMP:20260424T133922
CREATED:20260320T121045Z
LAST-MODIFIED:20260320T121133Z
UID:10000038-1774090800-1774101600@gwinnettchamber.org
SUMMARY:Niche Aesthetics Dental Studios Grand Opening!
DESCRIPTION:Free Family event- Raffles\, Face painting\, Bounce House\, Food trucks and so much more to celebrate the opening of your new family dentist. \nLocation: 2175 North Road Snellville GA 30078
URL:https://gwinnettchamber.org/community-event/niche-aesthetics-dental-studios-grand-opening/
LOCATION:GA
END:VEVENT
BEGIN:VEVENT
DTSTART;TZID=UTC:20260321T080000
DTEND;TZID=UTC:20260321T120000
DTSTAMP:20260424T133922
CREATED:20260318T164538Z
LAST-MODIFIED:20260318T164628Z
UID:10000004-1774080000-1774094400@gwinnettchamber.org
SUMMARY:Brightside Forever Bunny Run 5K
DESCRIPTION:2nd Annual Brightside Bunny Run 5k in Downtown Buford! Come join us for a day of Running\, Walking\, and Rolling for the Brightside Forever Foundation! Wear your crazy socks for World Down Syndrome Day and head to Brightside Cafe after for a celebration!
URL:https://gwinnettchamber.org/community-event/brightside-forever-bunny-run-5k/
LOCATION:GA
ATTACH;FMTTYPE=image/png:https://gwinnettchamber.org/wp-content/uploads/2026/03/Bunny-Run_2nd-Annual_TTlT.png
END:VEVENT
BEGIN:VEVENT
DTSTART;TZID=UTC:20260320T180000
DTEND;TZID=UTC:20260320T230000
DTSTAMP:20260424T133922
CREATED:20260318T164355Z
LAST-MODIFIED:20260318T164355Z
UID:10000003-1774029600-1774047600@gwinnettchamber.org
SUMMARY:Gift of Sound & Voice Gala
DESCRIPTION:Voices of Aloha Gala\nWhere Every Voice Finds Its Song \nJoin us on Friday\, March 20\, 2026\, for an unforgettable evening at the Voices of Aloha Gala\, benefiting the Auditory Verbal Center. Held at the Atlanta Marriott Perimeter Center\, this vibrant celebration will bring together friends\, families\, and community leaders in the spirit of aloha to support children who are deaf or hard of hearing. \nSince 1977\, Auditory Verbal Center has been laying the foundation for a lifetime of listening and speaking\, without the need for sign language or lip reading. Through specialized Auditory-Verbal Therapy and family-centered care\, AVC empowers children to develop spoken language and reach their fullest potential. Your participation directly supports this life-changing mission. \nThe evening begins with bottomless Hawaiian Pineapple Martinis from 6:00–7:00 PM\, followed by a festive Hawaiian-inspired plated dinner featuring island favorites\, tropical cocktails\, and lively entertainment. Guests will enjoy dancing\, a raffle\, silent and live auctions\, and exciting surprises throughout the night. \nBack by popular demand\, Dean Crownover returns as our Event Emcee and Live Auctioneer\, bringing over 30 years of professional entertainment experience to transform the auction into a high-energy\, laughter-filled show. \nFrom a private Irish countryside getaway to an exclusive in-home dining experience with Chef Lance Hagan\, this year’s auction promises extraordinary opportunities\, all in support of giving sound and voice to children in our community. \nHawaiian/Resort attire is encouraged\, so wear your brightest florals and join us for a meaningful night of celebration\, generosity\, and impact. \nTickets are $175 per person. RSVP by March 11 at avchears.org/events. Sponsorship opportunities and table packages are available. \nTogether\, we’ll ensure that every voice finds its song. 🌺
URL:https://gwinnettchamber.org/community-event/gift-of-sound-voice-gala/
LOCATION:GA
ATTACH;FMTTYPE=image/jpeg:https://gwinnettchamber.org/wp-content/uploads/2026/03/voices-of-aloha.jpg
END:VEVENT
BEGIN:VEVENT
DTSTART;VALUE=DATE:20260202
DTEND;VALUE=DATE:20260401
DTSTAMP:20260424T133922
CREATED:20260323T150200Z
LAST-MODIFIED:20260323T150200Z
UID:10000040-1769990400-1775001599@gwinnettchamber.org
SUMMARY:Delta Community Credit Union Personal Loans
DESCRIPTION:Until March 31st\, Delta Community Credit Union is offering Personal Loans at fixed rates as low as 8.75% APR.  For those that may need to consolidate debt\, offset an unexpected emergency\, or utilize towards personal business operations\, this an unsecured installment loan that may be used any way you see fit.  Apply online at DeltaCommunityCU.com/PersonalLoan\, or inquire with a Branch or virtual representative. \nYours in Business Partnerships\, \nJerry A. Freeman \nBusiness Development Officer| Delta Community Credit Union \nM 404-922-5459 \nO 770-240-7137 \nLinkedIn Profile
URL:https://gwinnettchamber.org/community-event/delta-community-credit-union-personal-loans/
LOCATION:GA
END:VEVENT
END:VCALENDAR