BEGIN:VCALENDAR
VERSION:2.0
PRODID:-//Gwinnett Chamber - ECPv6.15.20//NONSGML v1.0//EN
CALSCALE:GREGORIAN
METHOD:PUBLISH
X-ORIGINAL-URL:https://gwinnettchamber.org
X-WR-CALDESC:Events for Gwinnett Chamber
REFRESH-INTERVAL;VALUE=DURATION:PT1H
X-Robots-Tag:noindex
X-PUBLISHED-TTL:PT1H
BEGIN:VTIMEZONE
TZID:UTC
BEGIN:STANDARD
TZOFFSETFROM:+0000
TZOFFSETTO:+0000
TZNAME:UTC
DTSTART:20250101T000000
END:STANDARD
END:VTIMEZONE
BEGIN:VEVENT
DTSTART;TZID=UTC:20260411T100000
DTEND;TZID=UTC:20260411T120000
DTSTAMP:20260424T110408
CREATED:20260401T193550Z
LAST-MODIFIED:20260401T193550Z
UID:10000048-1775901600-1775908800@gwinnettchamber.org
SUMMARY:How Money Works — Financial Education Workshop
DESCRIPTION:Singles\, couples\, families (including teens as young as 11th grade) … All are welcome because financial confidence should start early. \nWHAT YOU’LL LEARN INCLUDES:  How to attack short and long-term money issues such as debt\, income/savings protection\, emergency fund\, credit card &/or student loan debt\, cash flow\, impact of taxes\, long-term care\, building wealth\, living will\, and legacy preservation. Also\, common financial mistakes people make—and how to avoid them. Plus\, the 7 Money Milestones everyone should work toward on their financial journey.  \nPure education. No selling. The only cost to attend is your time. \n*** When you register on Eventbrite (required) AND answer the question\, “How did you hear about our event” by entering my name\, KAREN ZAPP … I’ll know that you’re my guest. This is the only way I’ll be able to give you a copy of the best-selling book on personal finance\, “How Money Works – Stop Being a Sucker” at the end of the class.   \nLight bites and coffee served. So\, free class\, free book\, and free food. \nSeats are limited\, which is also why registration is required. See you there!
URL:https://gwinnettchamber.org/community-event/how-money-works-financial-education-workshop/
LOCATION:Digital Ignition\, 190 Bluegrass Valley Parkway Alpharetta\, GA\, Alpharetta\, GA\, 30005\, United States
ATTACH;FMTTYPE=image/webp:https://gwinnettchamber.org/wp-content/uploads/2026/04/financially-fearless.webp
END:VEVENT
END:VCALENDAR