BEGIN:VCALENDAR
VERSION:2.0
PRODID:-//Gwinnett Chamber - ECPv6.15.20//NONSGML v1.0//EN
CALSCALE:GREGORIAN
METHOD:PUBLISH
X-ORIGINAL-URL:https://gwinnettchamber.org
X-WR-CALDESC:Events for Gwinnett Chamber
REFRESH-INTERVAL;VALUE=DURATION:PT1H
X-Robots-Tag:noindex
X-PUBLISHED-TTL:PT1H
BEGIN:VTIMEZONE
TZID:UTC
BEGIN:STANDARD
TZOFFSETFROM:+0000
TZOFFSETTO:+0000
TZNAME:UTC
DTSTART:20250101T000000
END:STANDARD
END:VTIMEZONE
BEGIN:VEVENT
DTSTART;TZID=UTC:20260601T090000
DTEND;TZID=UTC:20260601T160000
DTSTAMP:20260424T032612
CREATED:20260417T154330Z
LAST-MODIFIED:20260417T193756Z
UID:10000059-1780304400-1780329600@gwinnettchamber.org
SUMMARY:The SUNDAY EXPERIENCE™: Elevate Service. Multiply Revenue.
DESCRIPTION:The SUNDAY EXPERIENCE™: \nYou’re not losing customers because of your product.\nYou’re losing them because of the experience. \nOn June 1\, everything changes. \nThe SUNDAY EXPERIENCE™ is a high-impact\, hands-on training designed to help you and your team transform everyday customer interactions into powerful moments that drive loyalty\, referrals\, and revenue. \nThis is not theory. This is real-world application. \nYou’ll learn how to:\nTurn average service into unforgettable experiences\nIncrease customer retention and repeat business\nImprove CSI scores and team performance\nBuild a culture that creates raving fan customers \nThis experience is designed for:\nNew employees who need a strong foundation\nExperienced professionals who need a reset\nLeaders who want better performance from their teams\nOrganizations ready to stop losing customers and start building loyalty \nSeats are limited to maintain a high-impact environment. \nInvestment: $480\nEarly Bird: $380 (Save $100) \nEarly Bird ends May 25 or when the first 15 seats are filled. \nEvery interaction matters. Every customer counts. Every moment is an opportunity to grow your business. \nIf you’re ready to elevate your service and multiply your results\, this is where it starts. \nRegister now:\nwww.humaxltd.com/registration
URL:https://gwinnettchamber.org/community-event/the-sunday-experience-elevate-service-multiply-revenue/
LOCATION:Hampton Inn\, 6010 Sugarloaf Pkwy\, Lawrenceville\, GA\, 30043\, United States
ATTACH;FMTTYPE=image/png:https://gwinnettchamber.org/wp-content/uploads/2026/04/Sundayflyenopay-1.png
ORGANIZER;CN="Bernard Smalls":MAILTO:bernard@humaxltd.com
END:VEVENT
END:VCALENDAR