BEGIN:VCALENDAR
VERSION:2.0
PRODID:-//Gwinnett Chamber - ECPv6.15.20//NONSGML v1.0//EN
CALSCALE:GREGORIAN
METHOD:PUBLISH
X-WR-CALNAME:Gwinnett Chamber
X-ORIGINAL-URL:https://gwinnettchamber.org
X-WR-CALDESC:Events for Gwinnett Chamber
REFRESH-INTERVAL;VALUE=DURATION:PT1H
X-Robots-Tag:noindex
X-PUBLISHED-TTL:PT1H
BEGIN:VTIMEZONE
TZID:UTC
BEGIN:STANDARD
TZOFFSETFROM:+0000
TZOFFSETTO:+0000
TZNAME:UTC
DTSTART:20250101T000000
END:STANDARD
END:VTIMEZONE
BEGIN:VEVENT
DTSTART;TZID=UTC:20260416T180000
DTEND;TZID=UTC:20260416T210000
DTSTAMP:20260424T114847
CREATED:20260324T185639Z
LAST-MODIFIED:20260324T185639Z
UID:10000042-1776362400-1776373200@gwinnettchamber.org
SUMMARY:Top Golf
DESCRIPTION:Come out for a fun night out while supporting the mission of Path United. We establish community centers in mobile home parks\, and we work with K-12 grade students. Our mission is to help these students on their path to becoming flourishing adults. \nYou can come as an individual\, a team\, or sponsor. \nEven if you don’t consider yourself a “golfer\,” come enjoy a great dinner and meet new people. It will be a fun night\, and you don’t want to miss!
URL:https://gwinnettchamber.org/community-event/top-golf/
LOCATION:Top Golf\, 2935 Buford Dr\, Buford\, GA\, 30519\, United States
ATTACH;FMTTYPE=image/jpeg:https://gwinnettchamber.org/wp-content/uploads/2026/03/Golf-Tournament-Flyer-1920w.jpg
ORGANIZER;CN="Jim Hollandsworth":MAILTO:jim@pathunited.org
END:VEVENT
END:VCALENDAR