BEGIN:VCALENDAR
VERSION:2.0
PRODID:-//Gwinnett Chamber - ECPv6.15.20//NONSGML v1.0//EN
CALSCALE:GREGORIAN
METHOD:PUBLISH
X-ORIGINAL-URL:https://gwinnettchamber.org
X-WR-CALDESC:Events for Gwinnett Chamber
REFRESH-INTERVAL;VALUE=DURATION:PT1H
X-Robots-Tag:noindex
X-PUBLISHED-TTL:PT1H
BEGIN:VTIMEZONE
TZID:UTC
BEGIN:STANDARD
TZOFFSETFROM:+0000
TZOFFSETTO:+0000
TZNAME:UTC
DTSTART:20250101T000000
END:STANDARD
END:VTIMEZONE
BEGIN:VEVENT
DTSTART;TZID=UTC:20260509T150000
DTEND;TZID=UTC:20260509T170000
DTSTAMP:20260424T032539
CREATED:20260415T125027Z
LAST-MODIFIED:20260415T125027Z
UID:10000057-1778338800-1778346000@gwinnettchamber.org
SUMMARY:Spilling the Tea on Credit\, Home Ownership\, and Wealth
DESCRIPTION:Get expert advice on building business and personal credit\, achieving and leveraging home and rental property ownership\, and managing your money with less stress and in a way that builds wealth. This is your year for greatness!
URL:https://gwinnettchamber.org/community-event/spilling-the-tea-on-credit-home-ownership-and-wealth/
LOCATION:Gwinnett Public Library Snellville\, 2245 Wisteria Dr SW\, Snellville\, 30078\, United States
ATTACH;FMTTYPE=image/png:https://gwinnettchamber.org/wp-content/uploads/2026/04/Spilling-the-Tea-on-Credit-Home-Ownership-and-Wealth-3-31-2026.png
ORGANIZER;CN="Moneycopilot Events":MAILTO:events@moneycopilot.com
END:VEVENT
END:VCALENDAR