BEGIN:VCALENDAR
VERSION:2.0
PRODID:-//Gwinnett Chamber - ECPv6.15.20//NONSGML v1.0//EN
CALSCALE:GREGORIAN
METHOD:PUBLISH
X-WR-CALNAME:Gwinnett Chamber
X-ORIGINAL-URL:https://gwinnettchamber.org
X-WR-CALDESC:Events for Gwinnett Chamber
REFRESH-INTERVAL;VALUE=DURATION:PT1H
X-Robots-Tag:noindex
X-PUBLISHED-TTL:PT1H
BEGIN:VTIMEZONE
TZID:UTC
BEGIN:STANDARD
TZOFFSETFROM:+0000
TZOFFSETTO:+0000
TZNAME:UTC
DTSTART:20250101T000000
END:STANDARD
END:VTIMEZONE
BEGIN:VEVENT
DTSTART;TZID=UTC:20260423T173000
DTEND;TZID=UTC:20260423T193000
DTSTAMP:20260424T091534
CREATED:20260422T204544Z
LAST-MODIFIED:20260422T204544Z
UID:10000062-1776965400-1776972600@gwinnettchamber.org
SUMMARY:Peachtree Corners Business Association Business After Hours Networking - Thursday\, April 23\, 2026
DESCRIPTION:Peachtree Corners Business Association Business After Hours Networking – Thursday\, April 23\, 2026 \nJoin us on Thursday\, April 23rd from 5:30 – 7:30 pm for our PCBA Business After Hours Speaker Series – “Curious about the Curiosity Lab in Peachtree Corners.” \nWe are excited to welcome Emily Heintz\, Executive Director at the Curiosity Lab as our key note speaker. \nEmily leads all expansion strategy\, strategic partnerships across public and private sectors\, and current member relations. \nWith more than 15 years of experience at the intersection of startups\, venture capital\, and economic development\, she specializes in building strategic partnerships and leading initiatives that accelerate innovation and strengthen entrepreneurial communities. Emily has held senior leadership roles across the public\, private\, and nonprofit sectors\, leading initiatives that advance innovation\, economic growth\, and community impact. \n“Curious about the Strategy\, Strategic Partnerships\, Projects\, and Developments at The Curiosity Lab in Peachtree Corners” \nFrom Real-World Testing to Worldwide Impact. Curiosity Lab is a living laboratory for place-based deployment where mobility\, infrastructure\, logistics\, and other emerging technologies are built\, tested and brought to life in an active city.\nStrategic insights and observations she has seen in the industry \nCuriosity Lab works with startups\, corporate innovation teams\, universities\, and global partners to deploy and validate next-generation technologies in real-world operating conditions. \nMore than a testbed\, Curiosity Lab is a collaboration hub that accelerates pilots\, strengthens partnerships\, and helps emerging technologies move from concept to city-scale impact. \nApril is Child Abuse Prevention Month. The PCBA Board and Community Outreach team chose Revved Up Kids as our Charity Spotlight.\nRevved Up Kids is the only Atlanta based nonprofit focused solely on sexual abuse prevention. The Revved Up Kids program has reached more than 50\,000 children and teens in the Atlanta metro area\, resulting in disclosures from victims and escapes from assault. \nWe are excited to have an evening of great conversations\, business networking\, a variety of beverages and great food. \nADVANCE REGISTRATION APPRECIATED \nLimited Main Event Sponsors and Vendor Tables Available \nEvent Registration – $48\n(includes appetizers and drinks)
URL:https://gwinnettchamber.org/community-event/peachtree-corners-business-association-business-after-hours-networking-thursday-april-23-2026/
LOCATION:Hilton Atlanta Northeast\, 5993 Peachtree Industrial Blvd\, Peachtree Corners\, 30092\, United States
ATTACH;FMTTYPE=image/png:https://gwinnettchamber.org/wp-content/uploads/2026/04/April-2026-BAH-with-Emily-Heintz.png
ORGANIZER;CN="PCBA Member Services":MAILTO:membership@peachtreecornersba.com
END:VEVENT
BEGIN:VEVENT
DTSTART;TZID=UTC:20260416T113000
DTEND;TZID=UTC:20260416T133000
DTSTAMP:20260424T091534
CREATED:20260325T121705Z
LAST-MODIFIED:20260325T121705Z
UID:10000044-1776339000-1776346200@gwinnettchamber.org
SUMMARY:Peachtree Corners Business Association Lunch Club - Thursday\, April 16\, 2026
DESCRIPTION:The PCBA Lunch Club is the perfect opportunity to have a great meal while networking with other members and their guests of the Peachtree Corners Business Association. \nNot only do you get the opportunity to have great conversations with other members\, you get to Save 15% off your check. \nThe lunch club opens from 11:30 – 1:30 \nRegistration Cost –\nMembers and their guests – No Registration Fee \nNon-members – $10 Registration Fee \nEach person pays for their own lunch \nAdvance Registration Appreciated \nCommunity Event Sponsorships\nMembers – $50\nNon-Members – $100\nIncludes logo on the calendar event page\, logo on event invitation\, recognition on LinkedIn event listing\, and recognition mention as a “Community Event Sponsor” at the event \nWebsite \nPCBA Website – www.peachtreecornersba.com\nQuestions? Contact 678-969-3385\nSend Email – membership@peachtreecornersba.com \nFrequently Asked Questions –\nHow do you join the PCBA Lunch Club? \nBe a member of the PCBA.\nAttend as a guest of a PCBA Member and registered by the member.\nAttend as a non-member and pay a registration fee (some events may not have a non-member option)\nIf you are a non-member and you want to join\, click here to join!\nRegister for the event online to receive your confirmation email. (Registration required)\nBring your confirmation with you to the restaurant on the day of the event. \nAs a member\, can I bring a guest? \nYes – you can bring a guest if you sign them up when you register \nCan I come anytime during 11:30 – 1:30? \nYes – the discount is available during this window of time. \nIs there a sponsorship option available for this event? \nYes – Community Event Sponsorships\nMembers – $50 or Non-Members – $100\nIncludes logo on the calendar event page\, logo on event invitation\, recognition on LinkedIn event listing\, and recognition mention as a “Community Event Sponsor” at the event
URL:https://gwinnettchamber.org/community-event/peachtree-corners-business-association-lunch-club-thursday-april-16-2026/2026-04-16/2/
LOCATION:Marlows Tavern Peachtree Corners\, 5210 Town Center Blvd\, Peachtree Corners\, GA\, 30092\, United States
ATTACH;FMTTYPE=image/png:https://gwinnettchamber.org/wp-content/uploads/2026/03/PCBA-Lunch-Club-graphic-2025.png
ORGANIZER;CN="PCBA Member Services":MAILTO:membership@peachtreecornersba.com
END:VEVENT
BEGIN:VEVENT
DTSTART;TZID=UTC:20260416T080000
DTEND;TZID=UTC:20260416T170000
DTSTAMP:20260424T091534
CREATED:20260325T121705Z
LAST-MODIFIED:20260325T121705Z
UID:10000043-1776326400-1776358800@gwinnettchamber.org
SUMMARY:Peachtree Corners Business Association Lunch Club - Thursday\, April 16\, 2026
DESCRIPTION:The PCBA Lunch Club is the perfect opportunity to have a great meal while networking with other members and their guests of the Peachtree Corners Business Association. \nNot only do you get the opportunity to have great conversations with other members\, you get to Save 15% off your check. \nThe lunch club opens from 11:30 – 1:30 \nRegistration Cost –\nMembers and their guests – No Registration Fee \nNon-members – $10 Registration Fee \nEach person pays for their own lunch \nAdvance Registration Appreciated \nCommunity Event Sponsorships\nMembers – $50\nNon-Members – $100\nIncludes logo on the calendar event page\, logo on event invitation\, recognition on LinkedIn event listing\, and recognition mention as a “Community Event Sponsor” at the event \nWebsite \nPCBA Website – www.peachtreecornersba.com\nQuestions? Contact 678-969-3385\nSend Email – membership@peachtreecornersba.com \nFrequently Asked Questions –\nHow do you join the PCBA Lunch Club? \nBe a member of the PCBA.\nAttend as a guest of a PCBA Member and registered by the member.\nAttend as a non-member and pay a registration fee (some events may not have a non-member option)\nIf you are a non-member and you want to join\, click here to join!\nRegister for the event online to receive your confirmation email. (Registration required)\nBring your confirmation with you to the restaurant on the day of the event. \nAs a member\, can I bring a guest? \nYes – you can bring a guest if you sign them up when you register \nCan I come anytime during 11:30 – 1:30? \nYes – the discount is available during this window of time. \nIs there a sponsorship option available for this event? \nYes – Community Event Sponsorships\nMembers – $50 or Non-Members – $100\nIncludes logo on the calendar event page\, logo on event invitation\, recognition on LinkedIn event listing\, and recognition mention as a “Community Event Sponsor” at the event
URL:https://gwinnettchamber.org/community-event/peachtree-corners-business-association-lunch-club-thursday-april-16-2026/2026-04-16/1/
LOCATION:Marlows Tavern Peachtree Corners\, 5210 Town Center Blvd\, Peachtree Corners\, GA\, 30092\, United States
ATTACH;FMTTYPE=image/png:https://gwinnettchamber.org/wp-content/uploads/2026/03/PCBA-Lunch-Club-graphic-2025.png
ORGANIZER;CN="PCBA Member Services":MAILTO:membership@peachtreecornersba.com
END:VEVENT
END:VCALENDAR