BEGIN:VCALENDAR
VERSION:2.0
PRODID:-//Gwinnett Chamber - ECPv6.15.20//NONSGML v1.0//EN
CALSCALE:GREGORIAN
METHOD:PUBLISH
X-ORIGINAL-URL:https://gwinnettchamber.org
X-WR-CALDESC:Events for Gwinnett Chamber
REFRESH-INTERVAL;VALUE=DURATION:PT1H
X-Robots-Tag:noindex
X-PUBLISHED-TTL:PT1H
BEGIN:VTIMEZONE
TZID:UTC
BEGIN:STANDARD
TZOFFSETFROM:+0000
TZOFFSETTO:+0000
TZNAME:UTC
DTSTART:20250101T000000
END:STANDARD
END:VTIMEZONE
BEGIN:VEVENT
DTSTART;TZID=UTC:20260404T080000
DTEND;TZID=UTC:20260404T093000
DTSTAMP:20260424T105821
CREATED:20260324T185931Z
LAST-MODIFIED:20260324T192602Z
UID:10000041-1775289600-1775295000@gwinnettchamber.org
SUMMARY:Business for a Cause
DESCRIPTION:Last month\, more than 30 businesses came together for the inaugural launch of Business for a Cause\, a powerful reminder of what’s possible when business leadership chooses purpose alongside productivity. \nStart your Saturday morning with intention\, create meaningful connections\, and be a part of something bigger than business. \nFeaturing: Spectrum Autism Support Center\nJoin us on Saturday\, April 4th\, from 8:00 AM – 9:30 AM for a morning designed to inspire conversation\, spark collaboration\, and elevate impact. \nAs leaders in the business community\, our reach extends far beyond the open hand of a nonprofit. Through innovation\, operational strategy\, skills\, services\, and technology\, we can amplify their voice\, strengthen their mission\, and expand their impact across Georgia and beyond. Because what many nonprofits lack is not passion – it’s platform. Business for a Cause exists to close that gap. \nGather your family and friends\, then come ready to: \n• Connect with like-minded colleagues in a “come as you are” casual dress environment\n• Discover a nonprofit organization making a real difference\n• Start your day energized – with both inspiration and a great cup of coffee \nThis is more than an event. It’s a movement toward intentional leadership and community impact.
URL:https://gwinnettchamber.org/community-event/business-for-a-cause/
LOCATION:Coffee That Matters by Phoenix Roasters\, 2640 Old Peachtree Road NW\, Duluth\, GA\, 30097\, United States
ATTACH;FMTTYPE=image/png:https://gwinnettchamber.org/wp-content/uploads/2026/03/Business-For-A-Cause_128x12.png
END:VEVENT
END:VCALENDAR