BEGIN:VCALENDAR
VERSION:2.0
PRODID:-//Gwinnett Chamber - ECPv6.15.20//NONSGML v1.0//EN
CALSCALE:GREGORIAN
METHOD:PUBLISH
X-ORIGINAL-URL:https://gwinnettchamber.org
X-WR-CALDESC:Events for Gwinnett Chamber
REFRESH-INTERVAL;VALUE=DURATION:PT1H
X-Robots-Tag:noindex
X-PUBLISHED-TTL:PT1H
BEGIN:VTIMEZONE
TZID:America/Halifax
BEGIN:DAYLIGHT
TZOFFSETFROM:-0400
TZOFFSETTO:-0300
TZNAME:ADT
DTSTART:20250309T060000
END:DAYLIGHT
BEGIN:STANDARD
TZOFFSETFROM:-0300
TZOFFSETTO:-0400
TZNAME:AST
DTSTART:20251102T050000
END:STANDARD
BEGIN:DAYLIGHT
TZOFFSETFROM:-0400
TZOFFSETTO:-0300
TZNAME:ADT
DTSTART:20260308T060000
END:DAYLIGHT
BEGIN:STANDARD
TZOFFSETFROM:-0300
TZOFFSETTO:-0400
TZNAME:AST
DTSTART:20261101T050000
END:STANDARD
BEGIN:DAYLIGHT
TZOFFSETFROM:-0400
TZOFFSETTO:-0300
TZNAME:ADT
DTSTART:20270314T060000
END:DAYLIGHT
BEGIN:STANDARD
TZOFFSETFROM:-0300
TZOFFSETTO:-0400
TZNAME:AST
DTSTART:20271107T050000
END:STANDARD
END:VTIMEZONE
BEGIN:VEVENT
DTSTART;TZID=America/Halifax:20260413T160000
DTEND;TZID=America/Halifax:20260413T180000
DTSTAMP:20260424T100214
CREATED:20260413T144038Z
LAST-MODIFIED:20260413T144038Z
UID:10000055-1776096000-1776103200@gwinnettchamber.org
SUMMARY:Peachtree Memorial Park Open House Experience
DESCRIPTION:Please join us as we showcase the opening of our new Mausoleum! Light refreshments\, complimentary professional headshot\, a guided tour of our beautiful park\, and take home your personal legacy planning guide.\nReserve your spot today!\nEmail: mel@crowellbrothers.com\nCall: 770-448-3072
URL:https://gwinnettchamber.org/community-event/peachtree-memorial-park-open-house-experience/
LOCATION:Crowell Brothers Funeral Home/Peachtree Memorial Park\, 5051 Peachtree Industrial Blvd\, Peachtree Corners\, GA\, 30092-3026\, United States
ATTACH;FMTTYPE=image/jpeg:https://gwinnettchamber.org/wp-content/uploads/2026/04/PMPOpenHouseJPEG.jpg
ORGANIZER;CN="Mel Warner":MAILTO:mel@crowellbrothers.com
END:VEVENT
END:VCALENDAR