BEGIN:VCALENDAR
VERSION:2.0
PRODID:-//Gwinnett Chamber - ECPv6.15.20//NONSGML v1.0//EN
CALSCALE:GREGORIAN
METHOD:PUBLISH
X-WR-CALNAME:Gwinnett Chamber
X-ORIGINAL-URL:https://gwinnettchamber.org
X-WR-CALDESC:Events for Gwinnett Chamber
REFRESH-INTERVAL;VALUE=DURATION:PT1H
X-Robots-Tag:noindex
X-PUBLISHED-TTL:PT1H
BEGIN:VTIMEZONE
TZID:UTC
BEGIN:STANDARD
TZOFFSETFROM:+0000
TZOFFSETTO:+0000
TZNAME:UTC
DTSTART:20250101T000000
END:STANDARD
END:VTIMEZONE
BEGIN:VEVENT
DTSTART;TZID=UTC:20260321T180000
DTEND;TZID=UTC:20260321T210000
DTSTAMP:20260424T060011
CREATED:20260318T165023Z
LAST-MODIFIED:20260318T165111Z
UID:10000006-1774116000-1774126800@gwinnettchamber.org
SUMMARY:Because One Matters Birthday Bash Fundraiser
DESCRIPTION:Mark your calendar for March 21\, 2026\, and join us at Slow Pour Brewery for our annual Because One Matters Birthday Bash! It’s an evening of fun\, food\, and fellowship. All while helping us serve\, love and equip kids impacted by foster care. \nEnjoy great dinner and drinks\, connect with incredible people\, and hear inspiring stories about the difference Because One Matters is making in our community.
URL:https://gwinnettchamber.org/community-event/because-one-matters-birthday-bash-fundraiser/
LOCATION:Slow Pour Brewery
ATTACH;FMTTYPE=image/jpeg:https://gwinnettchamber.org/wp-content/uploads/2026/03/because-one-matters-birthday-bash.jpg
END:VEVENT
END:VCALENDAR